BEGIN:VCALENDAR
VERSION:2.0
X-WR-CALNAME:EventsCalendar
BEGIN:VEVENT
CATEGORIES:Athletic
DESCRIPTION:Sunday, Jan. 11Noon &ndash; 2 p.m.Novak Field House Buy Tickets PGCC students, staff, and faculty are admitted free with a valid College-issued ID. PGCPS students with a school ID and children under 12 years old also receive free admission.&nbsp; Watch the Livestream &rsaquo; Every PGCC athletics event is streamed online. Tune in and catch every play. Follow the Action with Live Statistics &rsaquo; Use live stats to keep up with the score in real-time. Novak Field HousePrince George's Community College301 Largo RoadLargo, MD 20774 Get directions &rsaquo;  Join the Owls &rsaquo; Are you a PGCC student interested in joining our athletic programs? Please complete our tryout form to participate in an intercollegiate athletic team at the College. Make a Donation &rsaquo; PGCC is elevating our Division III intercollegiate athletic teams to Division II. We will also begin offering scholarship opportunities to student-athletes pursuing college degrees while participating in intercollegiate athletics. You can help us achieve our goal by making a contribution today. About PGCC Athletics &rsaquo; PGCC Athletics began with a men&rsquo;s basketball program shortly after the College's inception. After relocating to the Largo campus in 1968, the department expanded to include baseball, men&rsquo;s and women&rsquo;s basketball, men&rsquo;s and women&rsquo;s bowling, golf, softball, and men&rsquo;s and women&rsquo;s track and field. Today, the department sponsors baseball, men&rsquo;s and women&rsquo;s basketball, softball, men&rsquo;s and women's soccer, and men&rsquo;s and women&rsquo;s track and field. PGCC is a member of the National Junior College Athletic Association (NJCAA), Region 20, and Maryland Junior College Athletic Association (MD JUCO).100084
DTSTAMP:20260423T235843
DTSTART:20260111T120000
DTEND:20260111T140000
LOCATION:Novak Field House
SUMMARY;LANGUAGE=en-us:Women's Basketball vs. Union College (NJ)
UID:94c498c88b5b87d112ae7422411f4eb1@www.pgcc.edu
END:VEVENT
END:VCALENDAR
