BEGIN:VCALENDAR
VERSION:2.0
X-WR-CALNAME:EventsCalendar
BEGIN:VEVENT
CATEGORIES:Community
DESCRIPTION:100894
DTSTAMP:20260423T142242
DTSTART:20260416T160000
DTEND:20260416T180000
LOCATION:CANCELLED
SUMMARY;LANGUAGE=en-us:Art Gallery Series Session 3 'Inside the Vault'
UID:3c0e2a7746800d720434f64c77ed0e97@www.pgcc.edu
END:VEVENT
END:VCALENDAR
