BEGIN:VCALENDAR
VERSION:2.0
X-WR-CALNAME:EventsCalendar
BEGIN:VEVENT
CATEGORIES:Community
DESCRIPTION:Friday, May 14 - 6 p.m.Centers for Performing Arts, 105 Special Guest Meet Aziza Gibson-Hunter, artist, scholar, and founder of Black Artists of D.C., as she shares her process, materials, and stories. 100895
DTSTAMP:20260423T142242
DTSTART:20260501T160000
DTEND:20260501T180000
LOCATION:Centers for Performing Arts, 105
SUMMARY;LANGUAGE=en-us:Art Gallery Series Session 4 'Material Power'
UID:11bd33b06b6937488d25ad3b56dacdd4@www.pgcc.edu
END:VEVENT
END:VCALENDAR
