BEGIN:VCALENDAR
VERSION:2.0
X-WR-CALNAME:EventsCalendar
BEGIN:VEVENT
CATEGORIES:Performing Arts
DESCRIPTION:Thursday, April 23 and Friday, April 24 | 7:30 p.m.Saturday, April 25 | 2:00 p.m.Center for Performing Arts &ndash; Black Box Theater  "Our Town" is presented by arrangement with Concord Theatricals on behalf of Samuel French, Inc. By Thornton WilderDirected by Monica Barion Sign Language Interpretation A sign language interpreter is available for any performance with at least three weeks of advance notice. Requests may be made by emailing contact-cpa@pgcc.edu or calling 301-546-7CPA (7272). This service is subject to the availability of suitable seating and a qualified interpreter. Wheelchair Accessible Seating and Entrances Please request accessible seating when purchasing tickets. The ticket office staff is trained to help guests select the seating that best meets their individual needs. The main entrance to the facility is equipped with power doors, each of the venues has an accessible entrance, and house managers can direct guests to the accessible entrance closest to their seat.  Instructions for PGCC Students Please use your PGCC student email address when registering for events. Reserve Tickets  101069
DTSTAMP:20260423T124926
DTSTART:20260424T193000
DTEND:20260424T213000
LOCATION:Black Box Theater
SUMMARY;LANGUAGE=en-us:The Humanities Department presents 'Our Town'
UID:a4daecb137ecb51ea479c67b1e09f2c3@www.pgcc.edu
END:VEVENT
END:VCALENDAR
