BEGIN:VCALENDAR
VERSION:2.0
X-WR-CALNAME:EventsCalendar
BEGIN:VEVENT
CATEGORIES:Athletic
DESCRIPTION:Tuesday, April 71 - 5 p.m.Baseball Field Buy Tickets This doubleheader features two back-to-back 7-inning games. Please note that parking within the baseball complex is prohibited for all spectators. Visitors should plan to park in Lot G or Lot F and follow the path behind the tennis courts to access the baseball field. Ticket information will be available at a later time. Watch the Livestream &rsaquo; Every PGCC athletics event is streamed online. Tune in and catch every play. Baseball FieldPrince George's Community College301 Largo RoadLargo, MD 20774 Get directions &rsaquo;  Join the Owls &rsaquo; Are you a PGCC student interested in joining our athletic programs? Please complete our tryout form to participate in an intercollegiate athletic team at the College. Make a Donation &rsaquo; PGCC is elevating our Division III intercollegiate athletic teams to Division II. We will also begin offering scholarship opportunities to student-athletes pursuing college degrees while participating in intercollegiate athletics. You can help us achieve our goal by making a contribution today. About PGCC Athletics &rsaquo; PGCC Athletics began with a men&rsquo;s basketball program shortly after the College's inception. After relocating to the Largo campus in 1968, the department expanded to include baseball, men&rsquo;s and women&rsquo;s basketball, men&rsquo;s and women&rsquo;s bowling, golf, softball, and men&rsquo;s and women&rsquo;s track and field. Today, the department sponsors baseball, men&rsquo;s and women&rsquo;s basketball, softball, men&rsquo;s and women's soccer, and men&rsquo;s and women&rsquo;s track and field. PGCC is a member of the National Junior College Athletic Association (NJCAA), Region 20, and Maryland Junior College Athletic Association (MD JUCO).101145
DTSTAMP:20260423T142243
DTSTART:20260407T130000
DTEND:20260407T170000
LOCATION:Baseball Field
SUMMARY;LANGUAGE=en-us:Owls Baseball vs. Frederick Community College
UID:ce353ce3e61757302d67f2ed48bce7bd@www.pgcc.edu
END:VEVENT
END:VCALENDAR
