BEGIN:VCALENDAR
VERSION:2.0
X-WR-CALNAME:EventsCalendar
BEGIN:VEVENT
CATEGORIES:Performing Arts
DESCRIPTION:Saturday, May 27:30 p.m.Center for Performing Arts &ndash; Proscenium Theater  Sign Language Interpretation A sign language interpreter is available for any performance with at least three weeks of advance notice. Requests may be made by emailing contact-cpa@pgcc.edu or calling 301-546-7CPA (7272). This service is subject to the availability of suitable seating and a qualified interpreter. Wheelchair Accessible Seating and Entrances Please request accessible seating when purchasing tickets. The ticket office staff is trained to help guests select the seating that best meets their individual needs. The main entrance to the facility is equipped with power doors, each of the venues has an accessible entrance, and house managers can direct guests to the accessible entrance closest to their seat.  Instructions for PGCC Students Please use your PGCC student email address when registering for events. Reserve Tickets  101158
DTSTAMP:20260423T124928
DTSTART:20260502T193000
DTEND:20260502T210000
LOCATION:Proscenium Theatre - In Person
SUMMARY;LANGUAGE=en-us:Swingin' Owls Spring Jazz Band Concert
UID:a0f9622b0d65411f2845022785e51637@www.pgcc.edu
END:VEVENT
END:VCALENDAR
