BEGIN:VCALENDAR
VERSION:2.0
X-WR-CALNAME:EventsCalendar
BEGIN:VEVENT
CATEGORIES:Academic
DESCRIPTION:Thursday, April 210 a.m. - 2 p.m.University Town Center (Hyattsville Crossing)  sign up Current students and anyone interested in pursuing educational opportunities are welcome to attend! 6505 Belcrest RdSuite 215Hyattsville, MD 20782   &nbsp;101230
DTSTAMP:20260423T142242
DTSTART:20260402T100000
DTEND:20260402T140000
LOCATION:University Town Center
SUMMARY;LANGUAGE=en-us:UTC Spring Open House
UID:41d6b3adb33f249db2f7158f1771e3e2@www.pgcc.edu
END:VEVENT
END:VCALENDAR
