BEGIN:VCALENDAR
VERSION:2.0
X-WR-CALNAME:EventsCalendar
BEGIN:VEVENT
CATEGORIES:Community
DESCRIPTION:Saturday, April 1110 a.m. - 2 p.m.Dukes Student Center As part of National Public Health Week, this free, family-friendly event connects residents with local health care providers, community-based organizations, and public health agencies. Attendees can gather resources, health education, and information on services available throughout Prince George&rsquo;s County.  Explore programs that support overall well-being, access essential services, and engage directly with organizations working to improve health outcomes across the community. Prince George's Community College301 Largo RdLargo, MD 20774 See locations, maps, and directions &rsaquo;  &nbsp;101714
DTSTAMP:20260423T142244
DTSTART:20260411T100000
DTEND:20260411T140000
LOCATION:Dukes Student Center
SUMMARY;LANGUAGE=en-us:Community Resource Health Fair
UID:b06da9bf7e8fa505c83a8f452e53270a@www.pgcc.edu
END:VEVENT
END:VCALENDAR
