BEGIN:VCALENDAR
VERSION:2.0
X-WR-CALNAME:EventsCalendar
BEGIN:VEVENT
CATEGORIES:Community
DESCRIPTION:Saturday, Apr. 1110 a.m.-2 p.m. Celebrate National Library Week! Meet local authors, listen to readings, participate in free writing workshops, and have your purchased book signed for free. This event is free for all ages. Any children under 18 must be accompanied by an adult. Laurel College Center312 Marshall AvenueStudent Lounge, Fifth FloorLaurel, MD 20707 See maps, directions, and parking &gt; &nbsp;101792
DTSTAMP:20260423T142243
DTSTART:20260411T100000
DTEND:20260411T140000
LOCATION:LCC &ndash; Student Lounge, Fifth Floor
SUMMARY;LANGUAGE=en-us:3rd Annual Bookfest at Laurel College Center (LCC)
UID:1f38281619cbc15e8fe554192c4d61c9@www.pgcc.edu
END:VEVENT
END:VCALENDAR
