BEGIN:VCALENDAR
VERSION:2.0
X-WR-CALNAME:EventsCalendar
BEGIN:VEVENT
CATEGORIES:Community
DESCRIPTION:Tuesday, April 74-8 p.m.Center for Health Studies, Room 1418 Attend a free screening of the documentary "Birthing Justice," followed by a panel discussion.&nbsp; Center for Health Studies, Room 1418301 Largo RdLargo, MD 20774 See locations, maps, and directions &rsaquo;  &nbsp;101816
DTSTAMP:20260423T142241
DTSTART:20260407T160000
DTEND:20260407T200000
LOCATION:Center for Health Studies, Room 1418
SUMMARY;LANGUAGE=en-us:Film and Panel Discussion: 'Birthing Justice'
UID:e69c0d612df56ef0ae49bf0e494b3928@www.pgcc.edu
END:VEVENT
END:VCALENDAR
