BEGIN:VCALENDAR
VERSION:2.0
X-WR-CALNAME:EventsCalendar
BEGIN:VEVENT
CATEGORIES:Student Life
DESCRIPTION:Wednesday, April 82:00-3:30 p.m. Come have fun and participate in our Mind Over Microbes Wellness Workshop! Center for Health Studies, Room 1207301 Largo RoadLargo, MD 20774 See maps, directions, and parking &rsaquo;  &nbsp;101826
DTSTAMP:20260423T142241
DTSTART:20260408T140000
DTEND:20260408T153000
LOCATION:Center for Health Studies, Room 1207
SUMMARY;LANGUAGE=en-us:Mind Over Microbes &ndash; Wellness Workshop
UID:00661fcbc15af1ffcd7ad6dd39b74648@www.pgcc.edu
END:VEVENT
END:VCALENDAR
