BEGIN:VCALENDAR
VERSION:2.0
X-WR-CALNAME:EventsCalendar
BEGIN:VEVENT
CATEGORIES:Community
DESCRIPTION:Friday, April 101:00-2:15 p.m.Virtual Join via Zoom Learn and participate in our Infant Mental Health Workshop.  &nbsp;101827
DTSTAMP:20260423T142241
DTSTART:20260410T130000
DTEND:20260410T141500
LOCATION:Virtual
SUMMARY;LANGUAGE=en-us:Infant Mental Health Workshop (Virtual)
UID:0708227457238ad9483934a8895c2f3a@www.pgcc.edu
END:VEVENT
END:VCALENDAR
